BEGIN:VCALENDAR
VERSION:2.0
PRODID:-//ChamberMaster//Event Calendar 2.0//EN
METHOD:PUBLISH
X-PUBLISHED-TTL:P1H
REFRESH-INTERVAL:P1H
CALSCALE:GREGORIAN
BEGIN:VTIMEZONE
TZID:America/New_York
BEGIN:DAYLIGHT
RRULE:FREQ=YEARLY;BYMONTH=3;BYDAY=2SU
DTSTART:20070101T000000
TZOFFSETFROM:-0500
TZOFFSETTO:-0400
TZNAME:Eastern Daylight Time
END:DAYLIGHT
BEGIN:STANDARD
RRULE:FREQ=YEARLY;BYMONTH=11;BYDAY=1SU
DTSTART:20070101T000000
TZOFFSETFROM:-0400
TZOFFSETTO:-0500
TZNAME:Eastern Standard Time
END:STANDARD
END:VTIMEZONE
BEGIN:VEVENT
DTSTART;TZID=America/New_York:20260503T080000
DTEND;TZID=America/New_York:20260503T103000
X-MICROSOFT-CDO-ALLDAYEVENT:FALSE
SUMMARY:American Legion Breakfast - Post 31 Penacook
DESCRIPTION:American Legion Post 31 BreakfastSunday\, May 3rd   8:00AM   10:30AMCome hungry   we're serving up an all‑you‑can‑eat breakfast buffet the whole community will love.We're also celebrating Mother's Day with a special raffle for a Mother's Day Basket. Tickets are $1 each or 6 for $5. You do not need to be present to win. All proceeds support local charities and veterans.On the BuffetScrambled Eggs   Bacon   Home Fries   French Toast   Pancakes   Corned Beef Hash   Fresh Fruit   Toast & English Muffins   Juice   Coffee & TeaMade to OrderOmelets   Eggs Any Style   Breakfast SandwichesBring the whole family   we can't wait to see you!
X-ALT-DESC;FMTTYPE=text/html:<!DOCTYPE html><html><head><title></title></head><body aria-disabled="false"><h2><strong fr-original-style="" style="font-weight: 700\;">American Legion Post 31 Breakfast</strong></h2><p><span style="white-space: pre-wrap\;"><strong fr-original-style="white-space: pre-wrap\;" style="white-space: pre-wrap\; font-weight: 700\;">Sunday\, May 3rd &bull\; 8:00AM &ndash\; 10:30AM</strong></span></p><p><span style="white-space: pre-wrap\;">Come hungry &mdash\; we&rsquo\;re serving up an <strong fr-original-style="white-space: pre-wrap\;" style="white-space: pre-wrap\; font-weight: 700\;">all‑you‑can‑eat breakfast buffet</strong> the whole community will love.</span></p><p><span style="white-space: pre-wrap\;">We&rsquo\;re also celebrating <strong fr-original-style="white-space: pre-wrap\;" style="white-space: pre-wrap\; font-weight: 700\;">Mother&rsquo\;s Day</strong> with a special <strong fr-original-style="white-space: pre-wrap\;" style="white-space: pre-wrap\; font-weight: 700\;">raffle for a Mother&rsquo\;s Day Basket</strong>. Tickets are <strong fr-original-style="white-space: pre-wrap\;" style="white-space: pre-wrap\; font-weight: 700\;">$1 each</strong> or <strong fr-original-style="white-space: pre-wrap\;" style="white-space: pre-wrap\; font-weight: 700\;">6 for $5</strong>. You <em style="white-space: pre-wrap\;">do not</em> need to be present to win. All proceeds support <strong fr-original-style="white-space: pre-wrap\;" style="white-space: pre-wrap\; font-weight: 700\;">local charities and veterans</strong>.</span></p><h3><strong fr-original-style="" style="font-weight: 700\;">On the Buffet</strong></h3><p><span style="white-space: pre-wrap\;">Scrambled Eggs &bull\; Bacon &bull\; Home Fries &bull\; French Toast &bull\; Pancakes &bull\; Corned Beef Hash &bull\; Fresh Fruit &bull\; Toast &amp\; English Muffins &bull\; Juice &bull\; Coffee &amp\; Tea</span></p><h3><strong fr-original-style="" style="font-weight: 700\;">Made to Order</strong></h3><p><span style="white-space: pre-wrap\;">Omelets &bull\; Eggs Any Style &bull\; Breakfast Sandwiches</span></p><p><span style="white-space: pre-wrap\;">Bring the whole family &mdash\; we can&rsquo\;t wait to see you!</span></p></body></html>
LOCATION:
UID:e.3266.1445392
SEQUENCE:3
DTSTAMP:20260424T101008Z
URL:https://my.concordnhchamber.com/event-calendar/Details/american-legion-breakfast-post-31-penacook-1711990?sourceTypeId=Hub
END:VEVENT
END:VCALENDAR
