BEGIN:VCALENDAR
VERSION:2.0
PRODID:-//ChamberMaster//Event Calendar 2.0//EN
METHOD:PUBLISH
X-PUBLISHED-TTL:P1H
REFRESH-INTERVAL:P1H
CALSCALE:GREGORIAN
BEGIN:VTIMEZONE
TZID:America/New_York
BEGIN:DAYLIGHT
RRULE:FREQ=YEARLY;BYMONTH=3;BYDAY=2SU
DTSTART:20070101T000000
TZOFFSETFROM:-0500
TZOFFSETTO:-0400
TZNAME:Eastern Daylight Time
END:DAYLIGHT
BEGIN:STANDARD
RRULE:FREQ=YEARLY;BYMONTH=11;BYDAY=1SU
DTSTART:20070101T000000
TZOFFSETFROM:-0400
TZOFFSETTO:-0500
TZNAME:Eastern Standard Time
END:STANDARD
END:VTIMEZONE
BEGIN:VEVENT
DTSTART;TZID=America/New_York:20260507T121000
DTEND;TZID=America/New_York:20260507T125000
X-MICROSOFT-CDO-ALLDAYEVENT:FALSE
SUMMARY:Bach's Lunch: Explore Expressive Therapies
DESCRIPTION:Through expressive therapies\, people can learn more about themselves via tools such as  dance\, music\, and movement. You don't need to be skilled in these disciplines to benefit from expressive therapy\; it's about the process\, not being a trained musician or dancer.\n\nExplore music and dance movement therapy techniques\, process and interconnection with CCMS Music Therapist Tony Varga and Dance Movement Therapist Heather Hearne.\n\nVarga's presentation provides an introduction to music therapy\, explains the types of clients who might benefit from it most\, and demonstrates how it works.  Hearne will discuss dance movement therapy techniques\, share success stories\, and offer optional moments to integrate and participate. \n\nThis event will be held in our historic Recital Hall. It is free of charge and open to the public\, thanks in part to the generosity of the Walker Fund. Donations are appreciated.
X-ALT-DESC;FMTTYPE=text/html:Through expressive therapies\, people can learn more about themselves via tools such as  dance\, music\, and movement. You don't need to be skilled in these disciplines to benefit from expressive therapy\; it's about the process\, not being a trained musician or dancer.\n\nExplore music and dance movement therapy techniques\, process and interconnection with CCMS Music Therapist Tony Varga and Dance Movement Therapist Heather Hearne.\n\nVarga's presentation provides an introduction to music therapy\, explains the types of clients who might benefit from it most\, and demonstrates how it works.  Hearne will discuss dance movement therapy techniques\, share success stories\, and offer optional moments to integrate and participate. \n\nThis event will be held in our historic Recital Hall. It is free of charge and open to the public\, thanks in part to the generosity of the Walker Fund. Donations are appreciated.
LOCATION:23 Wall St Concord NH 03301
UID:e.3266.1445525
SEQUENCE:3
DTSTAMP:20260420T180916Z
URL:https://my.concordnhchamber.com/event-calendar/Details/bach-s-lunch-explore-expressive-therapies-1712140?sourceTypeId=Hub
END:VEVENT
END:VCALENDAR
