BEGIN:VCALENDAR
VERSION:2.0
PRODID:-//ChamberMaster//Event Calendar 2.0//EN
METHOD:PUBLISH
X-PUBLISHED-TTL:P1H
REFRESH-INTERVAL:P1H
CALSCALE:GREGORIAN
BEGIN:VTIMEZONE
TZID:America/New_York
BEGIN:DAYLIGHT
RRULE:FREQ=YEARLY;BYMONTH=3;BYDAY=2SU
DTSTART:20070101T000000
TZOFFSETFROM:-0500
TZOFFSETTO:-0400
TZNAME:Eastern Daylight Time
END:DAYLIGHT
BEGIN:STANDARD
RRULE:FREQ=YEARLY;BYMONTH=11;BYDAY=1SU
DTSTART:20070101T000000
TZOFFSETFROM:-0400
TZOFFSETTO:-0500
TZNAME:Eastern Standard Time
END:STANDARD
END:VTIMEZONE
BEGIN:VEVENT
DTSTART;TZID=America/New_York:20260410T073000
DTEND;TZID=America/New_York:20260410T093000
X-MICROSOFT-CDO-ALLDAYEVENT:FALSE
SUMMARY:2026 BIA Coffee and Crossover
DESCRIPTION:The Greater Concord Chamber of Commerce is proud to partner with the BIA once again for their annual Legislative "Half-Time Show" featuring an engaging panel discussion with NH policy makers. Attendees will gain valuable insights into legislative leadership's perspective on key initiatives addressing business concerns. Chamber members benefit from a discounted partner ticket price!This year's panelists include:Senate President CarsonSenate Minority Leader Perkins-KwokaRepresentative SweeneyRepresentative TelerskiRegister through the BIA's website here.
X-ALT-DESC;FMTTYPE=text/html:<!DOCTYPE html><html><head><title></title></head><body aria-disabled="false"><p>The Greater Concord Chamber of Commerce is proud to partner with the BIA once again for their annual Legislative &quot\;Half-Time Show&quot\; featuring an engaging panel discussion with NH policy makers. Attendees will gain valuable insights into legislative leadership&#39\;s perspective on key initiatives addressing business concerns. Chamber members benefit from a discounted partner ticket price!</p><p>This year&#39\;s panelists include:</p><ul fr-original-style="" style="list-style-position: inside\;"><li>Senate President Carson</li><li>Senate Minority Leader Perkins-Kwoka</li><li>Representative Sweeney</li><li>Representative Telerski</li></ul><p>Register through the BIA&#39\;s website <a fr-original-style="" href="https://members.biaofnh.com/events/Details/2026-bia-coffee-and-crossover-1619499" rel="noopener noreferrer" style="user-select: auto\;" target="_blank"><strong fr-original-style="" style="font-weight: 700\;">here</strong></a>.</p></body></html>
LOCATION:2 Institute Drive Concord NH 03301
UID:e.3266.1436722
SEQUENCE:3
DTSTAMP:20260419T161741Z
URL:https://my.concordnhchamber.com/event-calendar/Details/2026-bia-coffee-and-crossover-1700740?sourceTypeId=Hub
END:VEVENT
END:VCALENDAR
