BEGIN:VCALENDAR
VERSION:2.0
PRODID:-//ChamberMaster//Event Calendar 2.0//EN
METHOD:PUBLISH
X-PUBLISHED-TTL:P1H
REFRESH-INTERVAL:P1H
CALSCALE:GREGORIAN
BEGIN:VTIMEZONE
TZID:America/New_York
BEGIN:DAYLIGHT
RRULE:FREQ=YEARLY;BYMONTH=3;BYDAY=2SU
DTSTART:20070101T000000
TZOFFSETFROM:-0500
TZOFFSETTO:-0400
TZNAME:Eastern Daylight Time
END:DAYLIGHT
BEGIN:STANDARD
RRULE:FREQ=YEARLY;BYMONTH=11;BYDAY=1SU
DTSTART:20070101T000000
TZOFFSETFROM:-0400
TZOFFSETTO:-0500
TZNAME:Eastern Standard Time
END:STANDARD
END:VTIMEZONE
BEGIN:VEVENT
DTSTART;TZID=America/New_York:20260527T080000
DTEND;TZID=America/New_York:20260527T093000
X-MICROSOFT-CDO-ALLDAYEVENT:FALSE
SUMMARY:2026 Richard G. Warner LGC Scholarship Breakfast & Auction
DESCRIPTION:Support the Chamber's impactful leadership program by attending our annual breakfast fundraiser. LGC alum Connor Spern (Class of 2020) will call a live auction with fabulous items. Proceeds from the event benefit the LGC Scholarship Fund and provide tuition support to LGC participants. Guest speaker Michael Hermann\, owner of Gibson's Bookstore\, will provide a keynote address.Tickets are $30 and include a full breakfast. \nThank you to Concord Hospital for their continued support of this event.
X-ALT-DESC;FMTTYPE=text/html:<!DOCTYPE html><html><head><title></title></head><body aria-disabled="false"><p>Support the Chamber&#39\;s impactful leadership program by attending our annual breakfast fundraiser. LGC alum Connor Spern (Class of 2020) will call a live auction with fabulous items. Proceeds from the event benefit the LGC Scholarship Fund and provide tuition support to LGC participants. Guest speaker Michael Hermann\, owner of Gibson&#39\;s Bookstore\, will provide a keynote address.Tickets are $30 and include a full breakfast.&nbsp\;</p><p><br></p><p>Thank you to Concord Hospital for their continued support of this event.</p></body></html>
LOCATION:Robert Boucher Conference Room 250 Pleasant Street Concord NH 03301
UID:e.3266.1450442
SEQUENCE:3
DTSTAMP:20260424T192731Z
URL:https://my.concordnhchamber.com/event-calendar/Details/2026-richard-g-warner-lgc-scholarship-breakfast-auction-1718096?sourceTypeId=Hub
END:VEVENT
END:VCALENDAR
