BEGIN:VCALENDAR
VERSION:2.0
PRODID:-//ChamberMaster//Event Calendar 2.0//EN
METHOD:PUBLISH
X-PUBLISHED-TTL:P1H
REFRESH-INTERVAL:P1H
CALSCALE:GREGORIAN
BEGIN:VTIMEZONE
TZID:America/New_York
BEGIN:DAYLIGHT
RRULE:FREQ=YEARLY;BYMONTH=3;BYDAY=2SU
DTSTART:20070101T000000
TZOFFSETFROM:-0500
TZOFFSETTO:-0400
TZNAME:Eastern Daylight Time
END:DAYLIGHT
BEGIN:STANDARD
RRULE:FREQ=YEARLY;BYMONTH=11;BYDAY=1SU
DTSTART:20070101T000000
TZOFFSETFROM:-0400
TZOFFSETTO:-0500
TZNAME:Eastern Standard Time
END:STANDARD
END:VTIMEZONE
BEGIN:VEVENT
DTSTART;TZID=America/New_York:20260520T173000
DTEND;TZID=America/New_York:20260520T190000
X-MICROSOFT-CDO-ALLDAYEVENT:FALSE
SUMMARY:CYPN Networking at Capital City Pickleballers
DESCRIPTION:Join the Concord Young Professionals Network (CYPN) for an evening of networking at Capital City Pickleballers!
X-ALT-DESC;FMTTYPE=text/html:<!DOCTYPE html><html><head><title></title></head><body aria-disabled="false"><p>Join the Concord Young Professionals Network (CYPN) for an evening of networking at Capital City Pickleballers!</p></body></html>
LOCATION:10 Ferry St. Suite 105 Concord NH 03301
UID:e.3266.1443900
SEQUENCE:3
DTSTAMP:20260419T203112Z
URL:https://my.concordnhchamber.com/event-calendar/Details/cypn-networking-at-capital-city-pickleballers-1710181?sourceTypeId=Hub
END:VEVENT
END:VCALENDAR
